
BEGIN:VCALENDAR
VERSION:2.0
PRODID:-//San Jose Chinese Catholic Mission - ECPv4.9.4//NONSGML v1.0//EN
CALSCALE:GREGORIAN
METHOD:PUBLISH
X-WR-CALNAME:San Jose Chinese Catholic Mission
X-ORIGINAL-URL:https://sjccm.com
X-WR-CALDESC:Events for San Jose Chinese Catholic Mission
BEGIN:VTIMEZONE
TZID:"America/Los_Angeles"
BEGIN:DAYLIGHT
TZOFFSETFROM:-0800
TZOFFSETTO:-0700
TZNAME:PDT
DTSTART:20160313T100000
END:DAYLIGHT
BEGIN:STANDARD
TZOFFSETFROM:-0700
TZOFFSETTO:-0800
TZNAME:PST
DTSTART:20161106T090000
END:STANDARD
END:VTIMEZONE
BEGIN:VEVENT
DTSTART;TZID="America/Los_Angeles":20161118T170000
DTEND;TZID="America/Los_Angeles":20161120T123000
DTSTAMP:20260422T001041
CREATED:20161015T005550Z
LAST-MODIFIED:20161102T220703Z
UID:4981-1479488400-1479645000@sjccm.com
SUMMARY:2016將臨期週末避靜 Advent Retreat 11/18-20/2016
DESCRIPTION:主題: 默示錄中的望德—啟示你我！\n神師: 鍾子月 神父\n日期: 2016年 11月18日5:00PM ~ 11月20日12:30PM\n地點: St. Clare’s Retreat Centersomt (2381 Laurel Glen Rd\, Soquel\, CA 95073)\n費用: 單人房 $150，雙人房 $140 (每人)\n報名: 網路報名 www.sjccm.com\n        Shingmin Wu 吳興民 ******* 408-887-7888\nView and Download Retreat Flyer \n總統選舉的紛紛擾擾，地球暖化帶來的乾旱水患，宗教族群的對立引發的戰爭和暴力… 面對這樣一個混亂不安的時代，我們該如何活出基督徒的望德？ \n今年將臨期的週末避靜，邀請您來探索默示錄啟示給我們的望德。在默示錄中，若望向受苦的基督徒展示了天主的美妙計畫，使他們得到一個保證，即天主必使他們獲勝的許諾，藉神視使天主的愛、臨在、權能和威嚴得以一一展現，從而激發他們的望德，以免在困難中跌倒。 \n本避静將以默示錄所呈現出來的對受苦基督徒的鼓勵、安慰和許諾來分析其經典段落，從而發現生活在困苦中的我們該怎樣繼續活出基督徒的望德。\n\nLoading… \n
URL:/event/2016-advent-retreat-20161118-20/
LOCATION:St. Clare Retreat\, 2381 Laurel Glen Rd\, Soquel\, CA\, 95073\, United States
CATEGORIES:Community Wide,Faith Formation
ORGANIZER;CN="%E5%90%B3%E8%88%88%E6%B0%91%20%20Shingmin%20Wu":MAILTO:shingmin.wu@gmail.com
END:VEVENT
BEGIN:VEVENT
DTSTART;TZID="America/Los_Angeles":20161119T100000
DTEND;TZID="America/Los_Angeles":20161119T170000
DTSTAMP:20260422T001041
CREATED:20161016T065143Z
LAST-MODIFIED:20161125T112523Z
UID:4997-1479549600-1479574800@sjccm.com
SUMMARY:疏效平信仰加油站  [音像]  Joseph Shu Seminar 11/19/2016
DESCRIPTION:主題：	人子來臨時，兩個人同在田間，一個被提去，一個卻被遺棄。（瑪二四40）\n主辦﹕	SJCCM – 聖荷西華人天主教會\n對象﹕ 	教友、非教友、及渴望認識天主者\n地點：	St. Clare’s Church (Parish Hall)\n            (941 Lexington St\, Santa Clara\, CA 95050)\n主領：	主僕疏效平 \n\n10:00 報到\n10:15 主辦單位展開序幕\n10:20 到主跟前來(疏效平)\n10:30 讚美與敬拜\n11:00 第一講：人子來臨時，兩個人同在田間，一個被提去，一個卻被遺棄。（瑪二四40）（疏效平）\n12:00 中餐\n13:30 讚美與敬拜\n14:00 見證(周勤忠)\n14:20 見證(穆景梅)\n14:40 聖言與祈禱(疏效平)\n15:00 休息\n15:30在聖神內釋放、治癒祈禱(疏效平與服務組)\n16:30第二講：依賴那住在我們內的聖神，保管你所受的美好寄托。（弟後一14）(疏效平)\n16:50主辦單位總結\n17:00帶著主恩歸 \n實況錄音\n\n\n\n信仰加油站像冊 – 攝影 穆景梅\n\n		\n		\n\n			\n			\n			\n				 				 \n			\n					\n\n\n	\n				\n\n			\n			\n\n			 \n		\n		\n\n		\n		( window.MSReady = window.MSReady || [] ).push( function( $ ) {\n\n			"use strict";\n			var masterslider_d912 = new MasterSlider();\n\n			// slider controls\n			masterslider_d912.control('arrows'     \,{ autohide:true\, overVideo:true  });\n			masterslider_d912.control('thumblist'  \,{ autohide:false\, overVideo:true\, dir:'h'\, speed:17\, inset:false\, arrows:false\, hover:false\, customClass:''\, align:'bottom'\,type:'thumbs'\, margin:5\, width:127\, height:137\, space:5\, fillMode:'fill'  });\n			masterslider_d912.control('scrollbar'  \,{ autohide:false\, overVideo:true\, dir:'h'\, inset:true\, align:'top'\, color:'#3D3D3D' \, margin:10  \, width:4 });\n			// slider setup\n			masterslider_d912.setup("MS69e81201cd912"\, {\n				width           : 800\,\n				height          : 500\,\n				minHeight       : 0\,\n				space           : 0\,\n				start           : 1\,\n				grabCursor      : true\,\n				swipe           : true\,\n				mouse           : true\,\n				keyboard        : false\,\n				layout          : "partialview"\,\n				wheel           : false\,\n				autoplay        : true\,\n				instantStartLayers:false\,\n				loop            : true\,\n				shuffle         : false\,\n				preload         : 0\,\n				heightLimit     : true\,\n				autoHeight      : false\,\n				smoothHeight    : true\,\n				endPause        : false\,\n				overPause       : true\,\n				fillMode        : "fill"\,\n				centerControls  : true\,\n				startOnAppear   : false\,\n				layersMode      : "center"\,\n				autofillTarget  : ""\,\n				hideLayers      : false\,\n				fullscreenMargin: 0\,\n				speed           : 20\,\n				dir             : "h"\,\n				parallaxMode    : 'swipe'\,\n				view            : "scale"\n			});\n\n			new MSFlickrV2( masterslider_d912\, { key:'307f5c4170750751bb454f592ad91516'\, id:'72157675478489381'\, count:64\, thumbSize:'q'\,imgSize:'c'\, type:'photoset' });\n			window.masterslider_instances = window.masterslider_instances || [];\n			window.masterslider_instances.push( masterslider_d912 );\n		});\n		\n\n\n
URL:/event/joseph-shu-seminar-20161119/
LOCATION:HN – Parish Hall (North Hall)\, 941 Lexington Street\, Santa Clara\, CA\, 95050\, United States
CATEGORIES:Community Wide,Seminar
ATTACH;FMTTYPE=:
ORGANIZER;CN="%E7%96%8F%E4%BD%95%E5%AA%94%20Rosa%20Shu":MAILTO:rosa@m4christ.net
END:VEVENT
END:VCALENDAR